BEGIN:VCALENDAR
VERSION:2.0
PRODID:-//ChamberMaster//Event Calendar 2.0//EN
METHOD:PUBLISH
X-PUBLISHED-TTL:P3D
REFRESH-INTERVAL:P3D
CALSCALE:GREGORIAN
BEGIN:VEVENT
DTSTART:20251207T003000Z
DTEND:20251207T020000Z
X-MICROSOFT-CDO-ALLDAYEVENT:FALSE
SUMMARY:CSO - Handle's Messiah
DESCRIPTION:Hallelujah! Conducting a work that he cherishes\, Music Director Cristian M celaru leads the CSO\, May Festival Chorus and an all-star cast of soloists in Handel's Messiah.\n\nVenue\n\nMusic Hall\n\n\n\nWhat's Interesting\n\nThe trumpet shall sound. Join the CSO\, the May Festival Chorus and an all-star cast of soloists for Handel's Messiah. Music Director Cristian M celaru conducts one of his most cherished works\, featuring joyful movements like the famous Hallelujah Chorus that have become forever and ever holiday traditions. This is the Messiah experience of the season!
X-ALT-DESC;FMTTYPE=text/html:Hallelujah! Conducting a work that he cherishes\, Music Director Cristian M&#1233\;celaru leads the CSO\, May Festival Chorus and an all-star cast of soloists in Handel&rsquo\;s&nbsp\;Messiah.\n<div>\n<p>Venue<br />\nMusic Hall</p>\n</div>\n\n<div>\n<p>What&#39\;s Interesting<br />\nThe trumpet shall sound. Join the CSO\, the May Festival Chorus and an all-star cast of soloists for Handel&rsquo\;s&nbsp\;Messiah. Music Director Cristian M&#1233\;celaru conducts one of his most cherished works\, featuring joyful movements like the famous&nbsp\;Hallelujah Chorus&nbsp\;that have become&nbsp\;forever and ever&nbsp\;holiday traditions. This is&nbsp\;the&nbsp\;Messiah experience of the season!&nbsp\;</p>\n</div>\n
LOCATION:Music Hall
UID:e.818.21748
SEQUENCE:3
DTSTAMP:20260425T132436Z
URL:http://hispaniccincinnati.chambermaster.com/events/details/cso-handle-s-messiah-21748
END:VEVENT

END:VCALENDAR
