BEGIN:VCALENDAR
VERSION:2.0
PRODID:-//ChamberMaster//Event Calendar 2.0//EN
METHOD:PUBLISH
X-PUBLISHED-TTL:P3D
REFRESH-INTERVAL:P3D
CALSCALE:GREGORIAN
BEGIN:VEVENT
DTSTART:20250921T023000Z
DTEND:20250921T040000Z
X-MICROSOFT-CDO-ALLDAYEVENT:FALSE
SUMMARY:FC Cincinnati @ LA Galaxy
DESCRIPTION:Support FC Cincinnati as they take on LA Galaxy on September 20 at 10:30 pm by tuning in to our away games now! Watch on Apple TV with MLS season pass\, listen on local radio (English- iHeart\, ESPN 150\, and Spanish-La Mega Cincinnati 101.5 FM)\, or head to a Pub Partner near YOU!\n\n\n\nTo find a Pub Partner near you\, visit https://www.fccincinnati.com/matchday/pub-partners/. \n\n\n\n*FC Cincinnati will return to TQL Stadium on 9/27 at 2:30 pm to take on Orlando City SC for D a Latino Night. Get your tickets for the next home match:\n\nSupport FC Cincinnati as they take on LA Galaxy on September 20 at 10:30 pm by tuning in to our away games now! Watch on Apple TV with MLS season pass\, listen on local radio (English- iHeart\, ESPN 150\, and Spanish-La Mega Cincinnati 101.5 FM)\, or head to a Pub Partner near YOU!\n\n\n\nTo find a Pub Partner near you\, visit https://www.fccincinnati.com/matchday/pub-partners/. \n\n\n\n*FC Cincinnati will return to TQL Stadium on 9/27 at 2:30 pm to take on Orlando City SC for D a Latino Night. Get your tickets for the next home match: https://go.fccincinnati.com/trk/chamberofcommercetickets.
X-ALT-DESC;FMTTYPE=text/html:<p style="margin-left:0in\; margin-right:0in"><span style="font-family:arial\,sans-serif\; font-size:10pt">Support FC Cincinnati as they take on LA Galaxy on September 20 at 10:30 pm by tuning in to our away games now! Watch on Apple TV with MLS season pass\, listen on local radio (English- iHeart\, ESPN 150\, and Spanish-La Mega Cincinnati 101.5 FM)\, or head to a Pub Partner near YOU!<br />\n<br />\nTo find a Pub Partner near you\, visit https://www.fccincinnati.com/matchday/pub-partners/.&nbsp\;<br />\n<br />\n*FC Cincinnati will return to TQL Stadium&nbsp\;on 9/27 at 2:30&nbsp\;pm&nbsp\;to take on Orlando City SC for D&iacute\;a Latino Night.&nbsp\;Get your tickets for the next home match:</span></p>\n\n<p style="margin-left:0in\; margin-right:0in"><span style="font-family:arial\,sans-serif\; font-size:10pt">Support FC Cincinnati as they take on LA Galaxy on September 20 at 10:30 pm by tuning in to our away games now! Watch on Apple TV with MLS season pass\, listen on local radio (English- iHeart\, ESPN 150\, and Spanish-La Mega Cincinnati 101.5 FM)\, or head to a Pub Partner near YOU!<br />\n<br />\nTo find a Pub Partner near you\, visit https://www.fccincinnati.com/matchday/pub-partners/.&nbsp\;<br />\n<br />\n*FC Cincinnati will return to TQL Stadium&nbsp\;on 9/27 at 2:30&nbsp\;pm&nbsp\;to take on Orlando City SC for D&iacute\;a Latino Night.&nbsp\;Get your tickets for the next home match:&nbsp\;</span><span style="font-family:arial\,sans-serif\; font-size:10pt">https://go.fccincinnati.com/trk/chamberofcommercetickets.</span></p>\n\n<p>&nbsp\;</p>\n
LOCATION:Find your sport to watch the Orange and Blue!
UID:e.818.21415
SEQUENCE:3
DTSTAMP:20260423T044445Z
URL:http://hispaniccincinnati.chambermaster.com/events/details/fc-cincinnati-vs-la-galaxy-21415
END:VEVENT

END:VCALENDAR
