BEGIN:VCALENDAR
VERSION:2.0
PRODID:-//ChamberMaster//Event Calendar 2.0//EN
METHOD:PUBLISH
X-PUBLISHED-TTL:P3D
REFRESH-INTERVAL:P3D
CALSCALE:GREGORIAN
BEGIN:VEVENT
DTSTART:20240619T140000Z
DTEND:20240619T223000Z
X-MICROSOFT-CDO-ALLDAYEVENT:FALSE
SUMMARY:Juneteenth Jubilee
DESCRIPTION:Join us for a free daylong festival to celebrate true independence with live music\, programming\, community vendors and food trucks for a jubilant takeover of Freedom Way. Cincinnati Bengals offensive tackle Orlando Brown\, Jr. will be the event's featured guest\, delivering a motivational speech followed by a photo and autograph session.\n\nThe inaugural Juneteenth Jubilee is reminiscent of the joy and community that were the hallmarks of the earliest Juneteenth celebrations\, bringing people together around music\, food and community. The event will feature a stage on the Freedom Center plaza\, with live music and performances. Minority- and woman-owned food trucks will bookend Freedom Way\, serving barbecue\, Tex Mex\, classic cookout favorites and more. And a Community Market featuring local small businesses will give guests an opportunity to shop and support local.\n\nThe Juneteenth Jubilee will culminate in a march down the banks to the Ohio River\, the symbolic River Jordan over which thousands of enslaved people crossed into freedom on the Underground Railroad.\n\nProgramming and activities during the day will also focus on health equity\, economic empowerment and voter education and engagement.
X-ALT-DESC;FMTTYPE=text/html:<p>Join us for a free daylong festival to celebrate true independence with live music\, programming\, community vendors and food trucks for a jubilant takeover of Freedom Way. Cincinnati Bengals offensive tackle Orlando Brown\, Jr. will be the event&rsquo\;s featured guest\, delivering a motivational speech followed by a photo and autograph session.</p>\n\n<p>The inaugural Juneteenth Jubilee is reminiscent of the joy and community that were the hallmarks of the earliest Juneteenth celebrations\, bringing people together around music\, food and community. The event will feature a stage on the Freedom Center plaza\, with live music and performances. Minority- and woman-owned food trucks will bookend Freedom Way\, serving barbecue\, Tex Mex\, classic cookout favorites and more. And a Community Market featuring local small businesses will give guests an opportunity to shop and support local.</p>\n\n<p>The Juneteenth Jubilee will culminate in a march down the banks to the Ohio River\, the symbolic River Jordan over which thousands of enslaved people crossed into freedom on the Underground Railroad.</p>\n\n<p>Programming and activities during the day will also focus on health equity\, economic empowerment and voter education and engagement.</p>\n
LOCATION:50 East Freedom Way\, Cincinnati OH 45202
UID:e.818.19938
SEQUENCE:3
DTSTAMP:20260425T233620Z
URL:http://hispaniccincinnati.chambermaster.com/events/details/juneteenth-jubilee-19938
END:VEVENT

END:VCALENDAR
