BEGIN:VCALENDAR
VERSION:2.0
PRODID:-//ChamberMaster//Event Calendar 2.0//EN
METHOD:PUBLISH
X-PUBLISHED-TTL:P3D
REFRESH-INTERVAL:P3D
CALSCALE:GREGORIAN
BEGIN:VEVENT
DTSTART:20240516T200000Z
DTEND:20240516T220000Z
X-MICROSOFT-CDO-ALLDAYEVENT:FALSE
SUMMARY:Spring Mixer
DESCRIPTION:Mix\, Mingle\, & Make a Difference with Pro Seniors New Professionals!\n\n\n\nEnjoy beer on tap\, cocktails or signature wines provided by famous sommelier\, Kevin Hart of Hart & Cru.\n\n\n\nLearn more about our New Professionals\, what motivates them and their connection to Pro Seniors.\n\nhttps://www.proseniors.org/pro-seniors-new-professionals/
X-ALT-DESC;FMTTYPE=text/html:Mix\, Mingle\, &amp\; Make a Difference with Pro Seniors New Professionals!<br />\n<br />\nEnjoy beer on tap\, cocktails or signature wines provided by famous sommelier\, Kevin Hart of Hart &amp\; Cru.<br />\n<br />\nLearn more about our New Professionals\, what motivates them and their connection to Pro Seniors.<br />\n<a href="https://www.proseniors.org/pro-seniors-new-professionals/?fbclid=IwZXh0bgNhZW0CMTAAAR1LQuLirRimDC4aH-9sQ-Qe37M826TuiCBUaGWpcCp5eOJ-DJGdjOMJv6U_aem_ATwr6qOdlT2EIN1lQMF1wwm8fNU5MkkUShNHOcOSa07RKc2vVn21r1Q1f2fnRFvmxeCuJ74iVuEFhJB5_m2zbqeM" rel="nofollow noreferrer" role="link" tabindex="0" target="_blank">https://www.proseniors.org/pro-seniors-new-professionals/</a>
LOCATION:DBL Law 109 East Fourth Street\, Covington\, KY\, 41011
UID:e.818.19977
SEQUENCE:3
DTSTAMP:20260424T185956Z
URL:http://hispaniccincinnati.chambermaster.com/events/details/spring-mixer-19977
END:VEVENT

END:VCALENDAR
