BEGIN:VCALENDAR
VERSION:2.0
PRODID:-//ChamberMaster//Event Calendar 2.0//EN
METHOD:PUBLISH
X-PUBLISHED-TTL:P3D
REFRESH-INTERVAL:P3D
CALSCALE:GREGORIAN
BEGIN:VEVENT
DTSTART:20250522T160000Z
DTEND:20250522T170000Z
X-MICROSOFT-CDO-ALLDAYEVENT:FALSE
SUMMARY:Step by Step to Business Certification
DESCRIPTION:Growing your business often comes down to knowing the right steps\, and getting certified could be the game-changer you need. This workshop will show you how becoming a certified business can open doors you didn't even know existed and give you a clear\, simple plan to get there.\n\n \n\nWhat you'll learn:\n\n\n	Understand the different types of certifications like MBE\, WBE\, and EDGE\n	Find out if you qualify and how to apply step-by-step\n	Learn how certification can boost your visibility and credibility\n	Discover how certified businesses win contracts with corporations and government agencies\n	Get tips\, templates\, and checklists to make your application easier\n	Meet local experts and find out where to get free help after the workshop\n\n\n \n\nThis is information you can't afford to miss! Register now and start turning certification into real opportunities for your business.
X-ALT-DESC;FMTTYPE=text/html:<p>Growing your business often comes down to knowing the right steps\, and getting certified could be the game-changer you need. This workshop will show you how becoming a certified business can open doors you didn&#39\;t even know existed and give you a clear\, simple plan to get there.</p>\n\n<p>&nbsp\;</p>\n\n<p>What you&rsquo\;ll learn:</p>\n\n<ul>\n	<li>Understand the different types of certifications like MBE\, WBE\, and EDGE</li>\n	<li>Find out if you qualify and how to apply step-by-step</li>\n	<li>Learn how certification can boost your visibility and credibility</li>\n	<li>Discover how certified businesses win contracts with corporations and government agencies</li>\n	<li>Get tips\, templates\, and checklists to make your application easier</li>\n	<li>Meet local experts and find out where to get free help after the workshop</li>\n</ul>\n\n<p>&nbsp\;</p>\n\n<p>This is information you can&#39\;t afford to miss! Register now and start turning certification into real opportunities for your business.</p>\n
LOCATION:Online
UID:e.818.21671
SEQUENCE:3
DTSTAMP:20260419T224741Z
URL:http://hispaniccincinnati.chambermaster.com/events/details/step-by-step-to-business-certification-21671
END:VEVENT

END:VCALENDAR
