BEGIN:VCALENDAR
VERSION:2.0
PRODID:-//ChamberMaster//Event Calendar 2.0//EN
METHOD:PUBLISH
X-PUBLISHED-TTL:P3D
REFRESH-INTERVAL:P3D
CALSCALE:GREGORIAN
BEGIN:VEVENT
DTSTART:20251110T220000Z
DTEND:20251111T020000Z
X-MICROSOFT-CDO-ALLDAYEVENT:FALSE
SUMMARY:Two-Day Certification Workshop & Lab
DESCRIPTION:Join experts from MBAC\, the City of Cincinnati\, ODOT\, SBA\, and OMSDC to learn how business certifications can unlock funding\, contracts\, and procurement opportunities. This two-day event covers certification benefits\, requirements\, and hands-on application assistance.\n\n\n\n  DAY 1: EXPERT INSIGHTS & STRATEGY\n\n  Hear from experts on certification benefits & requirements.\n\n  Learn how certifications open doors to funding & contracts.\n\n  Connect with key agencies\, including MBAC\, City of Cincinnati\, ODOT\, SBA & more!\n\n\n\n  DAY 2: APPLICATION LAB   GET IT DONE!\n\n  Get step-by-step guidance to complete your certification applications.\n\n  Receive hands-on help to finalize & submit your applications.\n\n  Walk away with real progress\, ready to win new opportunities!\n\n\n\nTake the next step get certified and grow your business!  \n\n\nNovember 3 & November 10
X-ALT-DESC;FMTTYPE=text/html:<div>\n<div>\n<div itemprop="about">\n<div>\n<div>\n<div>\n<p>Join experts from MBAC\, the City of Cincinnati\, ODOT\, SBA\, and OMSDC to learn how business certifications can unlock funding\, contracts\, and procurement opportunities. This two-day event covers certification benefits\, requirements\, and hands-on application assistance.<br />\n<br />\n&#10004\; DAY 1: EXPERT INSIGHTS &amp\; STRATEGY<br />\n&#9989\; Hear from experts on certification benefits &amp\; requirements.<br />\n&#9989\; Learn how certifications open doors to funding &amp\; contracts.<br />\n&#9989\; Connect with key agencies\, including MBAC\, City of Cincinnati\, ODOT\, SBA &amp\; more!<br />\n<br />\n&#10004\; DAY 2: APPLICATION LAB &ndash\; GET IT DONE!<br />\n&#9989\; Get step-by-step guidance to complete your certification applications.<br />\n&#9989\; Receive hands-on help to finalize &amp\; submit your applications.<br />\n&#9989\; Walk away with real progress\, ready to win new opportunities!<br />\n<br />\nTake the next step&mdash\;get certified and grow your business! &#128640\;</p>\n</div>\n\n<p>November 3 &amp\;&nbsp\;November 10</p>\n</div>\n\n<p>&nbsp\;</p>\n</div>\n</div>\n</div>\n\n<div>\n<div>\n<div>\n<div>\n<p>&nbsp\;</p>\n</div>\n</div>\n\n<div itemprop="location" itemscope="" itemtype="http://schema.org/Place">\n<p>&nbsp\;</p>\n</div>\n\n<div>\n<div>&nbsp\;</div>\n</div>\n</div>\n</div>\n</div>\n\n<div>&nbsp\;</div>\n
LOCATION:Virtual
UID:e.818.21712
SEQUENCE:3
DTSTAMP:20260425T025604Z
URL:http://hispaniccincinnati.chambermaster.com/events/details/two-day-certification-workshop-lab-21712
END:VEVENT

END:VCALENDAR
