BEGIN:VCALENDAR
VERSION:2.0
PRODID:-//ChamberMaster//Event Calendar 2.0//EN
METHOD:PUBLISH
X-PUBLISHED-TTL:P3D
REFRESH-INTERVAL:P3D
CALSCALE:GREGORIAN
BEGIN:VEVENT
DTSTART:20251021T160000Z
DTEND:20251021T180000Z
X-MICROSOFT-CDO-ALLDAYEVENT:FALSE
SUMMARY:Winning State Contracts Through State Certifications
DESCRIPTION:Learn how the state certifications MBE\, WBE\, and EDGE can boost your business with federal contracts and growth opportunities.
X-ALT-DESC;FMTTYPE=text/html:Learn how the state certifications MBE\, WBE\, and EDGE can boost your business with federal contracts and growth opportunities.
LOCATION:Online
UID:e.818.21830
SEQUENCE:3
DTSTAMP:20260424T190733Z
URL:http://hispaniccincinnati.chambermaster.com/events/details/winning-state-contracts-through-state-certifications-21830
END:VEVENT

END:VCALENDAR
