BEGIN:VCALENDAR
VERSION:2.0
PRODID:-//ChamberMaster//Event Calendar 2.0//EN
METHOD:PUBLISH
X-PUBLISHED-TTL:P3D
REFRESH-INTERVAL:P3D
CALSCALE:GREGORIAN
BEGIN:VEVENT
DTSTART:20260122T170000Z
DTEND:20260122T180000Z
X-MICROSOFT-CDO-ALLDAYEVENT:FALSE
SUMMARY:HCCUSA ERG Leaders Resource Network
DESCRIPTION:Kick Off 2026 with Purpose: HCCUSA ERG Leaders Network Session\n\nHappy New Year\, ERG Leaders!\n\n \n\nStart your year strong by joining the next Hispanic Chamber Cincinnati USA (HCCUSA) ERG Leaders Network session:\n\nDate: Thursday\, January 22\n\nTime: Noon   1 pm\n\n\n\nWhy Attend?\n\nThis month's session will empower you to confidently communicate your impact   as an ERG leader\, community advocate\, and organizational influencer   across any setting.\n\n\n\nOur Session Objectives:\n\n\n	Understand the importance of a strong Purpose Pitch for leadership visibility and credibility\n	Craft a concise\, authentic Purpose Pitch reflecting your professional and ERG leadership role\n	Adapt your pitch for different audiences: executives\, allies\, ERG members\, and partners\n\n\nYour introduction sets the tone for your group and yourself. Let's work together to lead with clarity and confidence!
X-ALT-DESC;FMTTYPE=text/html:<div>Kick Off 2026 with Purpose: HCCUSA ERG Leaders Network Session</div>\n\n<div>Happy New Year\, ERG Leaders!<br />\n&nbsp\;</div>\n\n<div>Start your year strong by joining the next Hispanic Chamber Cincinnati USA (HCCUSA) ERG Leaders Network session:</div>\n\n<div>Date:&nbsp\;Thursday\, January 22<br />\nTime:&nbsp\;Noon &ndash\; 1 pm</div>\n\n<div><br />\nWhy Attend?<br />\nThis month&rsquo\;s session will empower you to confidently communicate your impact &ndash\; as an ERG leader\, community advocate\, and organizational influencer &ndash\; across any setting.</div>\n\n<div><br />\nOur Session Objectives:</div>\n\n<ul>\n	<li>Understand&nbsp\;the importance of a strong Purpose Pitch for leadership visibility and credibility</li>\n	<li>Craft&nbsp\;a concise\, authentic Purpose Pitch reflecting your professional and ERG leadership role</li>\n	<li>Adapt&nbsp\;your pitch for different audiences: executives\, allies\, ERG members\, and partners</li>\n</ul>\n\n<div>Your introduction sets the tone for your group and yourself. Let&rsquo\;s work together to lead with clarity and confidence!</div>\n\n<div>&nbsp\;</div>\n\n<div>&nbsp\;</div>\n
LOCATION:Virtual
UID:e.818.21944
SEQUENCE:3
DTSTAMP:20260425T110032Z
URL:http://hispaniccincinnati.chambermaster.com/events/details/xx-21944
END:VEVENT

END:VCALENDAR
